Package: cbpManager Version: 1.12.0 Command: /home/biocbuild/bbs-3.19-bioc/R/bin/R CMD build --keep-empty-dirs --no-resave-data cbpManager StartedAt: 2024-10-16 17:31:41 -0400 (Wed, 16 Oct 2024) EndedAt: 2024-10-16 17:31:53 -0400 (Wed, 16 Oct 2024) EllapsedTime: 12.0 seconds RetCode: 0 Status: OK PackageFile: cbpManager_1.12.0.tar.gz PackageFileSize: 4.542 MiB