Package: cbpManager Version: 1.12.0 Command: /Library/Frameworks/R.framework/Resources/bin/R CMD INSTALL cbpManager StartedAt: 2024-10-16 16:04:48 -0400 (Wed, 16 Oct 2024) EndedAt: 2024-10-16 16:05:11 -0400 (Wed, 16 Oct 2024) EllapsedTime: 23.0 seconds RetCode: 0 Status: OK