Package: cbpManager Version: 1.12.0 Command: rm -rf cbpManager.buildbin-libdir && mkdir cbpManager.buildbin-libdir && /Users/biocbuild/BBS/utils/build-universal.sh cbpManager_1.12.0.tar.gz /Library/Frameworks/R.framework/Resources/bin/R cbpManager.buildbin-libdir StartedAt: 2024-10-17 15:47:50 -0400 (Thu, 17 Oct 2024) EndedAt: 2024-10-17 15:48:18 -0400 (Thu, 17 Oct 2024) EllapsedTime: 28.4 seconds RetCode: 0 Status: OK PackageFile: cbpManager_1.12.0.tgz PackageFileSize: 3.719 MiB