Package: cbpManager Version: 1.12.0 Command: /Library/Frameworks/R.framework/Resources/bin/R CMD build --keep-empty-dirs --no-resave-data cbpManager StartedAt: 2024-06-09 16:06:09 -0400 (Sun, 09 Jun 2024) EndedAt: 2024-06-09 16:06:29 -0400 (Sun, 09 Jun 2024) EllapsedTime: 20.0 seconds RetCode: 0 Status: OK PackageFile: cbpManager_1.12.0.tar.gz PackageFileSize: 4.542 MiB