Package: cbpManager Version: 1.12.0 Command: rm -rf cbpManager.buildbin-libdir && mkdir cbpManager.buildbin-libdir && /Users/biocbuild/BBS/utils/build-universal.sh cbpManager_1.12.0.tar.gz /Library/Frameworks/R.framework/Resources/bin/R cbpManager.buildbin-libdir StartedAt: 2024-06-10 00:10:04 -0400 (Mon, 10 Jun 2024) EndedAt: 2024-06-10 00:10:21 -0400 (Mon, 10 Jun 2024) EllapsedTime: 17.0 seconds RetCode: 0 Status: OK PackageFile: cbpManager_1.12.0.tgz PackageFileSize: 3.719 MiB