Package: cbpManager Version: 1.12.0 Command: /home/biocbuild/R/R-beta-2024-04-15_r86425/bin/R CMD check --install=check:cbpManager.install-out.txt --library=/home/biocbuild/R/R-beta-2024-04-15_r86425/site-library --no-vignettes --timings cbpManager_1.12.0.tar.gz StartedAt: 2024-05-09 05:36:48 -0000 (Thu, 09 May 2024) EndedAt: 2024-05-09 05:38:04 -0000 (Thu, 09 May 2024) EllapsedTime: 76.1 seconds RetCode: 0 Status: WARNINGS CheckDir: cbpManager.Rcheck Warnings: 1