Package: cbaf Version: 1.26.3 Command: chmod a+r cbaf -R && E:\biocbuild\bbs-3.19-bioc\R\bin\R.exe CMD build --keep-empty-dirs --no-resave-data cbaf StartedAt: 2024-10-16 18:02:45 -0400 (Wed, 16 Oct 2024) EndedAt: 2024-10-16 18:04:20 -0400 (Wed, 16 Oct 2024) EllapsedTime: 94.5 seconds RetCode: 0 Status: OK PackageFile: cbaf_1.26.3.tar.gz PackageFileSize: 784.4 KiB