Package: cbaf Version: 1.26.3 Command: rm -rf cbaf.buildbin-libdir && mkdir cbaf.buildbin-libdir && E:\biocbuild\bbs-3.19-bioc\R\bin\R.exe CMD INSTALL --build --library=cbaf.buildbin-libdir cbaf_1.26.3.tar.gz StartedAt: 2024-10-17 07:29:16 -0400 (Thu, 17 Oct 2024) EndedAt: 2024-10-17 07:30:03 -0400 (Thu, 17 Oct 2024) EllapsedTime: 47.6 seconds RetCode: 0 Status: OK PackageFile: cbaf_1.26.3.zip PackageFileSize: 901.8 KiB