Package: cbaf Version: 1.26.3 Command: rm -rf cbaf.buildbin-libdir && mkdir cbaf.buildbin-libdir && F:\biocbuild\bbs-3.19-bioc\R\bin\R.exe CMD INSTALL --build --library=cbaf.buildbin-libdir cbaf_1.26.3.tar.gz StartedAt: 2024-06-27 07:56:57 -0400 (Thu, 27 Jun 2024) EndedAt: 2024-06-27 07:58:00 -0400 (Thu, 27 Jun 2024) EllapsedTime: 62.9 seconds RetCode: 0 Status: OK PackageFile: cbaf_1.26.3.zip PackageFileSize: 901.7 KiB