Package: cbaf Version: 1.26.3 Command: /home/biocbuild/bbs-3.19-bioc/R/bin/R CMD check --install=check:cbaf.install-out.txt --library=/home/biocbuild/bbs-3.19-bioc/R/site-library --timings cbaf_1.26.3.tar.gz StartedAt: 2024-10-16 22:28:34 -0400 (Wed, 16 Oct 2024) EndedAt: 2024-10-16 22:34:29 -0400 (Wed, 16 Oct 2024) EllapsedTime: 354.8 seconds RetCode: 0 Status: OK CheckDir: cbaf.Rcheck Warnings: 0