Package: cbaf Version: 1.26.3 Command: /home/biocbuild/bbs-3.19-bioc/R/bin/R CMD build --keep-empty-dirs --no-resave-data cbaf StartedAt: 2024-10-16 17:30:58 -0400 (Wed, 16 Oct 2024) EndedAt: 2024-10-16 17:32:08 -0400 (Wed, 16 Oct 2024) EllapsedTime: 70.1 seconds RetCode: 0 Status: OK PackageFile: cbaf_1.26.3.tar.gz PackageFileSize: 784.4 KiB