Package: cbaf Version: 1.26.3 Command: /Library/Frameworks/R.framework/Resources/bin/R CMD INSTALL cbaf StartedAt: 2024-10-16 16:43:36 -0400 (Wed, 16 Oct 2024) EndedAt: 2024-10-16 16:45:17 -0400 (Wed, 16 Oct 2024) EllapsedTime: 100.6 seconds RetCode: 0 Status: OK