Package: cbaf Version: 1.26.3 Command: /Library/Frameworks/R.framework/Resources/bin/R CMD check --install=check:cbaf.install-out.txt --library=/Library/Frameworks/R.framework/Resources/library --no-vignettes --timings cbaf_1.26.3.tar.gz StartedAt: 2024-10-17 02:18:00 -0400 (Thu, 17 Oct 2024) EndedAt: 2024-10-17 02:30:16 -0400 (Thu, 17 Oct 2024) EllapsedTime: 735.6 seconds RetCode: 0 Status: OK CheckDir: cbaf.Rcheck Warnings: 0