Package: cbaf Version: 1.26.3 Command: /Library/Frameworks/R.framework/Resources/bin/R CMD build --keep-empty-dirs --no-resave-data cbaf StartedAt: 2024-10-16 17:44:03 -0400 (Wed, 16 Oct 2024) EndedAt: 2024-10-16 17:46:46 -0400 (Wed, 16 Oct 2024) EllapsedTime: 163.2 seconds RetCode: 0 Status: OK PackageFile: cbaf_1.26.3.tar.gz PackageFileSize: 784.5 KiB