Package: cbaf Version: 1.26.3 Command: rm -rf cbaf.buildbin-libdir && mkdir cbaf.buildbin-libdir && /Users/biocbuild/BBS/utils/build-universal.sh cbaf_1.26.3.tar.gz /Library/Frameworks/R.framework/Resources/bin/R cbaf.buildbin-libdir StartedAt: 2024-10-17 15:47:29 -0400 (Thu, 17 Oct 2024) EndedAt: 2024-10-17 15:49:16 -0400 (Thu, 17 Oct 2024) EllapsedTime: 106.8 seconds RetCode: 0 Status: OK PackageFile: cbaf_1.26.3.tgz PackageFileSize: 895.2 KiB