Package: cbaf Version: 1.26.3 Command: /Library/Frameworks/R.framework/Resources/bin/R CMD INSTALL cbaf StartedAt: 2024-06-09 15:40:34 -0400 (Sun, 09 Jun 2024) EndedAt: 2024-06-09 15:41:30 -0400 (Sun, 09 Jun 2024) EllapsedTime: 56.3 seconds RetCode: 0 Status: OK