Package: cbaf Version: 1.26.3 Command: /Library/Frameworks/R.framework/Resources/bin/R CMD check --install=check:cbaf.install-out.txt --library=/Library/Frameworks/R.framework/Resources/library --no-vignettes --timings cbaf_1.26.3.tar.gz StartedAt: 2024-06-09 19:15:15 -0400 (Sun, 09 Jun 2024) EndedAt: 2024-06-09 19:20:46 -0400 (Sun, 09 Jun 2024) EllapsedTime: 331.3 seconds RetCode: 0 Status: OK CheckDir: cbaf.Rcheck Warnings: 0