Package: cbaf Version: 1.26.3 Command: /Library/Frameworks/R.framework/Resources/bin/R CMD build --keep-empty-dirs --no-resave-data cbaf StartedAt: 2024-06-09 16:05:51 -0400 (Sun, 09 Jun 2024) EndedAt: 2024-06-09 16:07:07 -0400 (Sun, 09 Jun 2024) EllapsedTime: 76.4 seconds RetCode: 0 Status: OK PackageFile: cbaf_1.26.3.tar.gz PackageFileSize: 784.5 KiB