Package: cbaf Version: 1.26.3 Command: rm -rf cbaf.buildbin-libdir && mkdir cbaf.buildbin-libdir && /Users/biocbuild/BBS/utils/build-universal.sh cbaf_1.26.3.tar.gz /Library/Frameworks/R.framework/Resources/bin/R cbaf.buildbin-libdir StartedAt: 2024-06-10 00:10:02 -0400 (Mon, 10 Jun 2024) EndedAt: 2024-06-10 00:11:02 -0400 (Mon, 10 Jun 2024) EllapsedTime: 60.7 seconds RetCode: 0 Status: OK PackageFile: cbaf_1.26.3.tgz PackageFileSize: 895.2 KiB