Package: cbaf Version: 1.26.0 Command: /home/biocbuild/R/R-beta-2024-04-15_r86425/bin/R CMD INSTALL cbaf StartedAt: 2024-05-08 21:02:59 -0000 (Wed, 08 May 2024) EndedAt: 2024-05-08 21:03:58 -0000 (Wed, 08 May 2024) EllapsedTime: 59.6 seconds RetCode: 0 Status: OK