Package: cbaf Version: 1.26.0 Command: /home/biocbuild/R/R-beta-2024-04-15_r86425/bin/R CMD check --install=check:cbaf.install-out.txt --library=/home/biocbuild/R/R-beta-2024-04-15_r86425/site-library --no-vignettes --timings cbaf_1.26.0.tar.gz StartedAt: 2024-05-09 05:34:53 -0000 (Thu, 09 May 2024) EndedAt: 2024-05-09 05:41:42 -0000 (Thu, 09 May 2024) EllapsedTime: 409.7 seconds RetCode: 0 Status: OK CheckDir: cbaf.Rcheck Warnings: 0