Package: cbaf Version: 1.26.0 Command: /home/biocbuild/R/R-beta-2024-04-15_r86425/bin/R CMD build --keep-empty-dirs --no-resave-data cbaf StartedAt: 2024-05-08 23:05:10 -0000 (Wed, 08 May 2024) EndedAt: 2024-05-08 23:06:50 -0000 (Wed, 08 May 2024) EllapsedTime: 99.1 seconds RetCode: 0 Status: OK PackageFile: cbaf_1.26.0.tar.gz PackageFileSize: 807.7 KiB