Package: cbaf Version: 1.26.3 Command: /Library/Frameworks/R.framework/Resources/bin/R CMD build --keep-empty-dirs --no-resave-data cbaf StartedAt: 2024-06-09 19:05:08 -0400 (Sun, 09 Jun 2024) EndedAt: 2024-06-09 19:06:47 -0400 (Sun, 09 Jun 2024) EllapsedTime: 98.4 seconds RetCode: 0 Status: OK PackageFile: cbaf_1.26.3.tar.gz PackageFileSize: 784.6 KiB