Package: cbaf Version: 1.26.3 Command: rm -rf cbaf.buildbin-libdir && mkdir cbaf.buildbin-libdir && /Users/biocbuild/BBS/utils/build-universal.sh cbaf_1.26.3.tar.gz /Library/Frameworks/R.framework/Resources/bin/R cbaf.buildbin-libdir StartedAt: 2024-10-18 17:39:21 -0400 (Fri, 18 Oct 2024) EndedAt: 2024-10-18 17:40:18 -0400 (Fri, 18 Oct 2024) EllapsedTime: 56.4 seconds RetCode: 0 Status: OK PackageFile: cbaf_1.26.3.tgz PackageFileSize: 895.4 KiB