Package: categoryCompare Version: 1.48.0 Maintainer: Robert M. Flight MaintainerEmail: rflight79 at gmail.com git_url: https://git.bioconductor.org/packages/categoryCompare git_branch: RELEASE_3_19 git_last_commit: 50862bb git_last_commit_date: 2024-04-30 10:27:40 -0400 (Tue, 30 Apr 2024)