Package: casper Version: 2.38.0 Command: E:\biocbuild\bbs-3.19-bioc\R\bin\R.exe CMD check --no-multiarch --install=check:casper.install-out.txt --library=E:\biocbuild\bbs-3.19-bioc\R\library --no-vignettes --timings casper_2.38.0.tar.gz StartedAt: 2024-10-16 23:42:29 -0400 (Wed, 16 Oct 2024) EndedAt: 2024-10-16 23:47:55 -0400 (Wed, 16 Oct 2024) EllapsedTime: 326.0 seconds RetCode: 0 Status: WARNINGS CheckDir: casper.Rcheck Warnings: 1