Package: casper Version: 2.38.0 Command: chmod a+r casper -R && E:\biocbuild\bbs-3.19-bioc\R\bin\R.exe CMD build --keep-empty-dirs --no-resave-data casper StartedAt: 2024-10-16 18:02:15 -0400 (Wed, 16 Oct 2024) EndedAt: 2024-10-16 18:04:21 -0400 (Wed, 16 Oct 2024) EllapsedTime: 125.7 seconds RetCode: 0 Status: OK PackageFile: casper_2.38.0.tar.gz PackageFileSize: 2.103 MiB