Package: casper Version: 2.38.0 Command: chmod a+r casper -R && F:\biocbuild\bbs-3.19-bioc\R\bin\R.exe CMD build --keep-empty-dirs --no-resave-data casper StartedAt: 2024-06-26 17:37:13 -0400 (Wed, 26 Jun 2024) EndedAt: 2024-06-26 17:39:17 -0400 (Wed, 26 Jun 2024) EllapsedTime: 124.3 seconds RetCode: 0 Status: OK PackageFile: casper_2.38.0.tar.gz PackageFileSize: 2.103 MiB