Package: casper Version: 2.38.0 Command: rm -rf casper.buildbin-libdir && mkdir casper.buildbin-libdir && F:\biocbuild\bbs-3.19-bioc\R\bin\R.exe CMD INSTALL --build --library=casper.buildbin-libdir casper_2.38.0.tar.gz StartedAt: 2024-06-27 07:56:47 -0400 (Thu, 27 Jun 2024) EndedAt: 2024-06-27 07:58:36 -0400 (Thu, 27 Jun 2024) EllapsedTime: 109.1 seconds RetCode: 0 Status: OK PackageFile: casper_2.38.0.zip PackageFileSize: 3.262 MiB