Package: casper Version: 2.38.0 Command: /home/biocbuild/bbs-3.19-bioc/R/bin/R CMD INSTALL casper StartedAt: 2024-10-16 16:32:49 -0400 (Wed, 16 Oct 2024) EndedAt: 2024-10-16 16:33:51 -0400 (Wed, 16 Oct 2024) EllapsedTime: 62.5 seconds RetCode: 0 Status: OK