Package: casper Version: 2.38.0 Command: /home/biocbuild/bbs-3.19-bioc/R/bin/R CMD check --install=check:casper.install-out.txt --library=/home/biocbuild/bbs-3.19-bioc/R/site-library --timings casper_2.38.0.tar.gz StartedAt: 2024-10-16 22:27:14 -0400 (Wed, 16 Oct 2024) EndedAt: 2024-10-16 22:32:28 -0400 (Wed, 16 Oct 2024) EllapsedTime: 313.7 seconds RetCode: 0 Status: OK CheckDir: casper.Rcheck Warnings: 0