Package: casper Version: 2.38.0 Command: /home/biocbuild/bbs-3.19-bioc/R/bin/R CMD build --keep-empty-dirs --no-resave-data casper StartedAt: 2024-10-16 17:30:05 -0400 (Wed, 16 Oct 2024) EndedAt: 2024-10-16 17:31:24 -0400 (Wed, 16 Oct 2024) EllapsedTime: 78.1 seconds RetCode: 0 Status: OK PackageFile: casper_2.38.0.tar.gz PackageFileSize: 2.099 MiB