Package: casper Version: 2.38.0 Command: /Library/Frameworks/R.framework/Resources/bin/R CMD build --keep-empty-dirs --no-resave-data casper StartedAt: 2024-10-16 20:52:47 -0400 (Wed, 16 Oct 2024) EndedAt: 2024-10-16 20:54:21 -0400 (Wed, 16 Oct 2024) EllapsedTime: 93.8 seconds RetCode: 1 Status: ERROR PackageFile: None PackageFileSize: NA