Package: cancerclass Version: 1.48.0 Command: E:\biocbuild\bbs-3.19-bioc\R\bin\R.exe CMD check --no-multiarch --install=check:cancerclass.install-out.txt --library=E:\biocbuild\bbs-3.19-bioc\R\library --no-vignettes --timings cancerclass_1.48.0.tar.gz StartedAt: 2024-10-16 23:38:43 -0400 (Wed, 16 Oct 2024) EndedAt: 2024-10-16 23:40:30 -0400 (Wed, 16 Oct 2024) EllapsedTime: 107.5 seconds RetCode: 0 Status: OK CheckDir: cancerclass.Rcheck Warnings: 0