Package: cancerclass Version: 1.48.0 Command: rm -rf cancerclass.buildbin-libdir && mkdir cancerclass.buildbin-libdir && E:\biocbuild\bbs-3.19-bioc\R\bin\R.exe CMD INSTALL --build --library=cancerclass.buildbin-libdir cancerclass_1.48.0.tar.gz StartedAt: 2024-10-17 07:28:39 -0400 (Thu, 17 Oct 2024) EndedAt: 2024-10-17 07:29:05 -0400 (Thu, 17 Oct 2024) EllapsedTime: 26.4 seconds RetCode: 0 Status: OK PackageFile: cancerclass_1.48.0.zip PackageFileSize: 1.522 MiB