Package: cancerclass Version: 1.48.0 Command: chmod a+r cancerclass -R && F:\biocbuild\bbs-3.19-bioc\R\bin\R.exe CMD build --keep-empty-dirs --no-resave-data cancerclass StartedAt: 2024-06-26 17:35:55 -0400 (Wed, 26 Jun 2024) EndedAt: 2024-06-26 17:37:01 -0400 (Wed, 26 Jun 2024) EllapsedTime: 65.9 seconds RetCode: 0 Status: OK PackageFile: cancerclass_1.48.0.tar.gz PackageFileSize: 1.416 MiB