Package: cancerclass Version: 1.48.0 Command: /home/biocbuild/bbs-3.19-bioc/R/bin/R CMD check --install=check:cancerclass.install-out.txt --library=/home/biocbuild/bbs-3.19-bioc/R/site-library --timings cancerclass_1.48.0.tar.gz StartedAt: 2024-10-16 22:26:07 -0400 (Wed, 16 Oct 2024) EndedAt: 2024-10-16 22:27:07 -0400 (Wed, 16 Oct 2024) EllapsedTime: 60.1 seconds RetCode: 0 Status: OK CheckDir: cancerclass.Rcheck Warnings: 0