Package: cancerclass Version: 1.48.0 Command: /Library/Frameworks/R.framework/Resources/bin/R CMD check --install=check:cancerclass.install-out.txt --library=/Library/Frameworks/R.framework/Resources/library --no-vignettes --timings cancerclass_1.48.0.tar.gz StartedAt: 2024-06-09 19:13:14 -0400 (Sun, 09 Jun 2024) EndedAt: 2024-06-09 19:14:15 -0400 (Sun, 09 Jun 2024) EllapsedTime: 60.9 seconds RetCode: 0 Status: WARNINGS CheckDir: cancerclass.Rcheck Warnings: 1