Package: cancerclass Version: 1.48.0 Command: /Library/Frameworks/R.framework/Resources/bin/R CMD build --keep-empty-dirs --no-resave-data cancerclass StartedAt: 2024-10-16 20:51:27 -0400 (Wed, 16 Oct 2024) EndedAt: 2024-10-16 20:52:01 -0400 (Wed, 16 Oct 2024) EllapsedTime: 33.2 seconds RetCode: 0 Status: OK PackageFile: cancerclass_1.48.0.tar.gz PackageFileSize: 1.525 MiB