Package: cancerclass Version: 1.48.0 Maintainer: Daniel Kosztyla MaintainerEmail: danielkossi at hotmail.com git_url: https://git.bioconductor.org/packages/cancerclass git_branch: RELEASE_3_19 git_last_commit: 12491a7 git_last_commit_date: 2024-04-30 10:27:46 -0400 (Tue, 30 Apr 2024)