Package: canceR Version: 1.38.0 Command: E:\biocbuild\bbs-3.19-bioc\R\bin\R.exe CMD INSTALL canceR StartedAt: 2024-10-16 17:16:12 -0400 (Wed, 16 Oct 2024) EndedAt: 2024-10-16 17:17:40 -0400 (Wed, 16 Oct 2024) EllapsedTime: 87.5 seconds RetCode: 0 Status: OK