Package: canceR Version: 1.38.0 Command: /home/biocbuild/bbs-3.19-bioc/R/bin/R CMD build --keep-empty-dirs --no-resave-data canceR StartedAt: 2024-10-16 17:28:33 -0400 (Wed, 16 Oct 2024) EndedAt: 2024-10-16 17:29:56 -0400 (Wed, 16 Oct 2024) EllapsedTime: 83.1 seconds RetCode: 0 Status: OK PackageFile: canceR_1.38.0.tar.gz PackageFileSize: 31.46 MiB