Package: canceR Version: 1.38.0 Command: /Library/Frameworks/R.framework/Resources/bin/R CMD check --install=check:canceR.install-out.txt --library=/Library/Frameworks/R.framework/Resources/library --no-vignettes --timings canceR_1.38.0.tar.gz StartedAt: 2024-10-17 02:15:00 -0400 (Thu, 17 Oct 2024) EndedAt: 2024-10-17 02:34:59 -0400 (Thu, 17 Oct 2024) EllapsedTime: 1199.5 seconds RetCode: 0 Status: OK CheckDir: canceR.Rcheck Warnings: 0