Package: canceR Version: 1.38.0 Command: rm -rf canceR.buildbin-libdir && mkdir canceR.buildbin-libdir && /Users/biocbuild/BBS/utils/build-universal.sh canceR_1.38.0.tar.gz /Library/Frameworks/R.framework/Resources/bin/R canceR.buildbin-libdir StartedAt: 2024-10-17 15:46:54 -0400 (Thu, 17 Oct 2024) EndedAt: 2024-10-17 15:51:02 -0400 (Thu, 17 Oct 2024) EllapsedTime: 247.7 seconds RetCode: 0 Status: OK PackageFile: canceR_1.38.0.tgz PackageFileSize: 14.91 MiB