Package: canceR Version: 1.38.0 Command: rm -rf canceR.buildbin-libdir && mkdir canceR.buildbin-libdir && /Users/biocbuild/BBS/utils/build-universal.sh canceR_1.38.0.tar.gz /Library/Frameworks/R.framework/Resources/bin/R canceR.buildbin-libdir StartedAt: 2024-06-10 00:09:40 -0400 (Mon, 10 Jun 2024) EndedAt: 2024-06-10 00:11:56 -0400 (Mon, 10 Jun 2024) EllapsedTime: 135.9 seconds RetCode: 0 Status: OK PackageFile: canceR_1.38.0.tgz PackageFileSize: 14.92 MiB