Package: canceR Version: 1.38.0 Command: /Library/Frameworks/R.framework/Resources/bin/R CMD check --install=check:canceR.install-out.txt --library=/Library/Frameworks/R.framework/Resources/library --no-vignettes --timings canceR_1.38.0.tar.gz StartedAt: 2024-06-10 09:32:15 -0400 (Mon, 10 Jun 2024) EndedAt: 2024-06-10 10:12:16 -0400 (Mon, 10 Jun 2024) EllapsedTime: 2401.1 seconds RetCode: None Status: TIMEOUT CheckDir: canceR.Rcheck Warnings: NA