Package: calm Version: 1.18.0 Command: E:\biocbuild\bbs-3.19-bioc\R\bin\R.exe CMD INSTALL calm StartedAt: 2024-10-16 16:07:01 -0400 (Wed, 16 Oct 2024) EndedAt: 2024-10-16 16:07:10 -0400 (Wed, 16 Oct 2024) EllapsedTime: 9.4 seconds RetCode: 0 Status: OK