Package: calm Version: 1.18.0 Command: E:\biocbuild\bbs-3.19-bioc\R\bin\R.exe CMD check --no-multiarch --install=check:calm.install-out.txt --library=E:\biocbuild\bbs-3.19-bioc\R\library --no-vignettes --timings calm_1.18.0.tar.gz StartedAt: 2024-10-16 23:36:52 -0400 (Wed, 16 Oct 2024) EndedAt: 2024-10-16 23:38:46 -0400 (Wed, 16 Oct 2024) EllapsedTime: 113.5 seconds RetCode: 0 Status: OK CheckDir: calm.Rcheck Warnings: 0