Package: calm Version: 1.18.0 Command: rm -rf calm.buildbin-libdir && mkdir calm.buildbin-libdir && E:\biocbuild\bbs-3.19-bioc\R\bin\R.exe CMD INSTALL --build --library=calm.buildbin-libdir calm_1.18.0.tar.gz StartedAt: 2024-10-17 07:28:27 -0400 (Thu, 17 Oct 2024) EndedAt: 2024-10-17 07:28:35 -0400 (Thu, 17 Oct 2024) EllapsedTime: 8.5 seconds RetCode: 0 Status: OK PackageFile: calm_1.18.0.zip PackageFileSize: 421.9 KiB