Package: calm Version: 1.18.0 Command: rm -rf calm.buildbin-libdir && mkdir calm.buildbin-libdir && F:\biocbuild\bbs-3.19-bioc\R\bin\R.exe CMD INSTALL --build --library=calm.buildbin-libdir calm_1.18.0.tar.gz StartedAt: 2024-06-27 07:56:23 -0400 (Thu, 27 Jun 2024) EndedAt: 2024-06-27 07:56:33 -0400 (Thu, 27 Jun 2024) EllapsedTime: 9.2 seconds RetCode: 0 Status: OK PackageFile: calm_1.18.0.zip PackageFileSize: 421.8 KiB